Package: CyTOFpower Version: 1.13.0 Command: /home/biocbuild/bbs-3.21-bioc/R/bin/R CMD INSTALL CyTOFpower StartedAt: 2025-02-19 15:30:00 -0500 (Wed, 19 Feb 2025) EndedAt: 2025-02-19 15:30:05 -0500 (Wed, 19 Feb 2025) EllapsedTime: 5.0 seconds RetCode: 0 Status: OK