Package: CyTOFpower
Version: 1.13.0
Command: /home/biocbuild/bbs-3.21-bioc/R/bin/R CMD check --install=check:CyTOFpower.install-out.txt --library=/home/biocbuild/bbs-3.21-bioc/R/site-library --timings CyTOFpower_1.13.0.tar.gz
StartedAt: 2025-02-19 21:19:40 -0500 (Wed, 19 Feb 2025)
EndedAt: 2025-02-19 21:20:41 -0500 (Wed, 19 Feb 2025)
EllapsedTime: 61.2 seconds
RetCode: 1
Status: ERROR
CheckDir: CyTOFpower.Rcheck
Warnings: NA