Package: CyTOFpower
Version: 1.13.0
Command: /Library/Frameworks/R.framework/Resources/bin/R CMD check --install=check:CyTOFpower.install-out.txt --library=/Library/Frameworks/R.framework/Resources/library --no-vignettes --timings CyTOFpower_1.13.0.tar.gz
StartedAt: 2025-02-19 18:50:20 -0500 (Wed, 19 Feb 2025)
EndedAt: 2025-02-19 18:50:58 -0500 (Wed, 19 Feb 2025)
EllapsedTime: 38.4 seconds
RetCode: 0
Status: OK
CheckDir: CyTOFpower.Rcheck
Warnings: 0