Package: ClustIRR
Version: 1.5.41
Maintainer: Simo Kitanovski
MaintainerEmail: simokitanovski at gmail.com
git_url: https://git.bioconductor.org/packages/ClustIRR
git_branch: devel
git_last_commit: 07d70ad
git_last_commit_date: 2025-02-19 10:43:16 -0500 (Wed, 19 Feb 2025)