Package: CiteFuse
Version: 1.19.0
Command: E:\biocbuild\bbs-3.21-bioc\R\bin\R.exe CMD INSTALL CiteFuse
StartedAt: 2025-02-19 16:53:52 -0500 (Wed, 19 Feb 2025)
EndedAt: 2025-02-19 16:54:57 -0500 (Wed, 19 Feb 2025)
EllapsedTime: 65.5 seconds
RetCode: 0
Status: OK