Package: CiteFuse Version: 1.19.0 Command: E:\biocbuild\bbs-3.21-bioc\R\bin\R.exe CMD check --no-multiarch --install=check:CiteFuse.install-out.txt --library=E:\biocbuild\bbs-3.21-bioc\R\library --no-vignettes --timings CiteFuse_1.19.0.tar.gz StartedAt: 2025-02-19 23:40:19 -0500 (Wed, 19 Feb 2025) EndedAt: 2025-02-19 23:45:25 -0500 (Wed, 19 Feb 2025) EllapsedTime: 306.5 seconds RetCode: 0 Status: OK CheckDir: CiteFuse.Rcheck Warnings: 0