Package: CiteFuse Version: 1.19.0 Command: chmod a+r CiteFuse -R && E:\biocbuild\bbs-3.21-bioc\R\bin\R.exe CMD build --keep-empty-dirs --no-resave-data CiteFuse StartedAt: 2025-02-19 17:53:39 -0500 (Wed, 19 Feb 2025) EndedAt: 2025-02-19 17:57:15 -0500 (Wed, 19 Feb 2025) EllapsedTime: 215.1 seconds RetCode: 0 Status: OK PackageFile: CiteFuse_1.19.0.tar.gz PackageFileSize: 2.388 <A href="http://en.wikipedia.org/wiki/MiB" target="_blank">MiB</A>