##############################################################################
##############################################################################
###
### Running command:
###
###   rm -rf CiteFuse.buildbin-libdir && mkdir CiteFuse.buildbin-libdir && E:\biocbuild\bbs-3.21-bioc\R\bin\R.exe CMD INSTALL --build --library=CiteFuse.buildbin-libdir CiteFuse_1.19.0.tar.gz
###
##############################################################################
##############################################################################


* installing *source* package 'CiteFuse' ...
** this is package 'CiteFuse' version '1.19.0'
** using staged installation
** libs
using C++ compiler: 'G__~1.EXE (GCC) 13.3.0'
g++ -std=gnu++17  -I"E:/biocbuild/bbs-3.21-bioc/R/include" -DNDEBUG  -I'E:/biocbuild/bbs-3.21-bioc/R/library/Rcpp/include'   -I"C:/rtools44/x86_64-w64-mingw32.static.posix/include"      -O2 -Wall  -mfpmath=sse -msse2 -mstackrealign   -DR_NO_REMAP -c RcppExports.cpp -o RcppExports.o
g++ -std=gnu++17  -I"E:/biocbuild/bbs-3.21-bioc/R/include" -DNDEBUG  -I'E:/biocbuild/bbs-3.21-bioc/R/library/Rcpp/include'   -I"C:/rtools44/x86_64-w64-mingw32.static.posix/include"      -O2 -Wall  -mfpmath=sse -msse2 -mstackrealign   -DR_NO_REMAP -c backend.cpp -o backend.o
g++ -std=gnu++17  -I"E:/biocbuild/bbs-3.21-bioc/R/include" -DNDEBUG  -I'E:/biocbuild/bbs-3.21-bioc/R/library/Rcpp/include'   -I"C:/rtools44/x86_64-w64-mingw32.static.posix/include"      -O2 -Wall  -mfpmath=sse -msse2 -mstackrealign   -DR_NO_REMAP -c lr2propr.cpp -o lr2propr.o
g++ -std=gnu++17 -shared -s -static-libgcc -o CiteFuse.dll tmp.def RcppExports.o backend.o lr2propr.o -LC:/rtools44/x86_64-w64-mingw32.static.posix/lib/x64 -LC:/rtools44/x86_64-w64-mingw32.static.posix/lib -LE:/biocbuild/bbs-3.21-bioc/R/bin/x64 -lR
installing to E:/biocbuild/bbs-3.21-bioc/meat/CiteFuse.buildbin-libdir/00LOCK-CiteFuse/00new/CiteFuse/libs/x64
** R
** data
** inst
** byte-compile and prepare package for lazy loading
** help
*** installing help indices
** building package indices
** installing vignettes
** testing if installed package can be loaded from temporary location
** testing if installed package can be loaded from final location
** testing if installed package keeps a record of temporary installation path
* MD5 sums
packaged installation of 'CiteFuse' as CiteFuse_1.19.0.zip
* DONE (CiteFuse)