Package: CiteFuse
Version: 1.19.0
Command: /home/biocbuild/bbs-3.21-bioc/R/bin/R CMD INSTALL CiteFuse
StartedAt: 2025-02-19 15:52:46 -0500 (Wed, 19 Feb 2025)
EndedAt: 2025-02-19 15:53:32 -0500 (Wed, 19 Feb 2025)
EllapsedTime: 46.3 seconds
RetCode: 0
Status: OK