Package: CircSeqAlignTk
Version: 1.9.0
Maintainer: Jianqiang Sun
MaintainerEmail: sun at biunit.dev
git_url: https://git.bioconductor.org/packages/CircSeqAlignTk
git_branch: devel
git_last_commit: c5921ae
git_last_commit_date: 2024-10-29 11:14:51 -0500 (Tue, 29 Oct 2024)