Package: ChemmineR Version: 3.59.0 Command: E:\biocbuild\bbs-3.21-bioc\R\bin\R.exe CMD INSTALL ChemmineR StartedAt: 2025-02-19 16:49:32 -0500 (Wed, 19 Feb 2025) EndedAt: 2025-02-19 16:52:33 -0500 (Wed, 19 Feb 2025) EllapsedTime: 180.6 seconds RetCode: 0 Status: OK