Package: ChemmineR Version: 3.59.0 Command: E:\biocbuild\bbs-3.21-bioc\R\bin\R.exe CMD check --no-multiarch --install=check:ChemmineR.install-out.txt --library=E:\biocbuild\bbs-3.21-bioc\R\library --no-vignettes --timings ChemmineR_3.59.0.tar.gz StartedAt: 2025-02-19 23:33:45 -0500 (Wed, 19 Feb 2025) EndedAt: 2025-02-19 23:35:43 -0500 (Wed, 19 Feb 2025) EllapsedTime: 117.6 seconds RetCode: 1 Status: ERROR CheckDir: ChemmineR.Rcheck Warnings: NA