Package: ChemmineR
Version: 3.59.0
Command: chmod a+r ChemmineR -R && E:\biocbuild\bbs-3.21-bioc\R\bin\R.exe CMD build --keep-empty-dirs --no-resave-data ChemmineR
StartedAt: 2025-02-19 17:49:13 -0500 (Wed, 19 Feb 2025)
EndedAt: 2025-02-19 17:52:05 -0500 (Wed, 19 Feb 2025)
EllapsedTime: 171.9 seconds
RetCode: 0
Status: OK
PackageFile: ChemmineR_3.59.0.tar.gz
PackageFileSize: 1.579 <A href="http://en.wikipedia.org/wiki/MiB" target="_blank">MiB</A>