Package: ChemmineR Version: 3.59.0 Command: rm -rf ChemmineR.buildbin-libdir && mkdir ChemmineR.buildbin-libdir && E:\biocbuild\bbs-3.21-bioc\R\bin\R.exe CMD INSTALL --build --library=ChemmineR.buildbin-libdir ChemmineR_3.59.0.tar.gz StartedAt: 2025-02-20 07:28:15 -0500 (Thu, 20 Feb 2025) EndedAt: 2025-02-20 07:29:58 -0500 (Thu, 20 Feb 2025) EllapsedTime: 102.8 seconds RetCode: 0 Status: OK PackageFile: ChemmineR_3.59.0.zip PackageFileSize: 2.175 <A href="http://en.wikipedia.org/wiki/MiB" target="_blank">MiB</A>