Package: ChemmineR
Version: 3.59.0
Command: /Library/Frameworks/R.framework/Resources/bin/R CMD INSTALL ChemmineR
StartedAt: 2025-02-19 15:38:45 -0500 (Wed, 19 Feb 2025)
EndedAt: 2025-02-19 15:39:19 -0500 (Wed, 19 Feb 2025)
EllapsedTime: 33.7 seconds
RetCode: 0
Status: OK