Package: ChemmineR
Version: 3.59.0
Command: /Library/Frameworks/R.framework/Resources/bin/R CMD check --install=check:ChemmineR.install-out.txt --library=/Library/Frameworks/R.framework/Resources/library --no-vignettes --timings ChemmineR_3.59.0.tar.gz
StartedAt: 2025-02-17 19:24:05 -0500 (Mon, 17 Feb 2025)
EndedAt: 2025-02-17 19:26:17 -0500 (Mon, 17 Feb 2025)
EllapsedTime: 132.0 seconds
RetCode: 0
Status: WARNINGS
CheckDir: ChemmineR.Rcheck
Warnings: 1