Package: ChemmineR
Version: 3.59.0
Command: /Library/Frameworks/R.framework/Resources/bin/R CMD build --keep-empty-dirs --no-resave-data ChemmineR
StartedAt: 2025-02-19 16:11:44 -0500 (Wed, 19 Feb 2025)
EndedAt: 2025-02-19 16:13:08 -0500 (Wed, 19 Feb 2025)
EllapsedTime: 84.1 seconds
RetCode: 1
Status: ERROR
PackageFile: None
PackageFileSize: NA