Package: ChemmineR
Version: 3.59.0
Command: rm -rf ChemmineR.buildbin-libdir && mkdir ChemmineR.buildbin-libdir && /Users/biocbuild/BBS/utils/build-universal.sh ChemmineR_3.59.0.tar.gz /Library/Frameworks/R.framework/Resources/bin/R ChemmineR.buildbin-libdir
StartedAt: 2025-02-18 00:17:49 -0500 (Tue, 18 Feb 2025)
EndedAt: 2025-02-18 00:18:27 -0500 (Tue, 18 Feb 2025)
EllapsedTime: 38.0 seconds
RetCode: 0
Status: OK
PackageFile: ChemmineR_3.59.0.tgz
PackageFileSize: 2.62 <A href="http://en.wikipedia.org/wiki/MiB" target="_blank">MiB</A>