Package: ChemmineR
Version: 3.59.0
Command: /Library/Frameworks/R.framework/Resources/bin/R CMD INSTALL ChemmineR
StartedAt: 2025-02-19 15:26:22 -0500 (Wed, 19 Feb 2025)
EndedAt: 2025-02-19 15:26:31 -0500 (Wed, 19 Feb 2025)
EllapsedTime: 8.6 seconds
RetCode: 0
Status: OK