##############################################################################
##############################################################################
###
### Running command:
###
###   /Library/Frameworks/R.framework/Resources/bin/R CMD INSTALL ChemmineR
###
##############################################################################
##############################################################################


* installing to library ‘/Library/Frameworks/R.framework/Versions/4.5-arm64/Resources/library’
* installing *source* package ‘ChemmineR’ ...
** this is package ‘ChemmineR’ version ‘3.59.0’
** using staged installation
** libs
using C++ compiler: ‘Apple clang version 15.0.0 (clang-1500.1.0.2.5)’
using SDK: ‘MacOSX11.3.sdk’
clang++ -arch arm64 -std=gnu++17 -I"/Library/Frameworks/R.framework/Resources/include" -DNDEBUG  -I'/Library/Frameworks/R.framework/Versions/4.5-arm64/Resources/library/Rcpp/include' -I'/Library/Frameworks/R.framework/Versions/4.5-arm64/Resources/library/BH/include' -I/opt/R/arm64/include   -DNO_MAIN -DNO_DEBUG -DSTRICT_R_HEADERS -DR_NO_REMAP -fPIC  -falign-functions=64 -Wall -g -O2  -DR_NO_REMAP -c DisjointSets.cpp -o DisjointSets.o
clang++ -arch arm64 -std=gnu++17 -I"/Library/Frameworks/R.framework/Resources/include" -DNDEBUG  -I'/Library/Frameworks/R.framework/Versions/4.5-arm64/Resources/library/Rcpp/include' -I'/Library/Frameworks/R.framework/Versions/4.5-arm64/Resources/library/BH/include' -I/opt/R/arm64/include   -DNO_MAIN -DNO_DEBUG -DSTRICT_R_HEADERS -DR_NO_REMAP -fPIC  -falign-functions=64 -Wall -g -O2  -DR_NO_REMAP -c cluster.cc -o cluster.o
cluster.cc:49:13: warning: unused function 'prepare_neighbors' [-Wunused-function]
void static prepare_neighbors(const char* nbr_file, int skip, int p)
            ^
1 warning generated.
clang++ -arch arm64 -std=gnu++17 -I"/Library/Frameworks/R.framework/Resources/include" -DNDEBUG  -I'/Library/Frameworks/R.framework/Versions/4.5-arm64/Resources/library/Rcpp/include' -I'/Library/Frameworks/R.framework/Versions/4.5-arm64/Resources/library/BH/include' -I/opt/R/arm64/include   -DNO_MAIN -DNO_DEBUG -DSTRICT_R_HEADERS -DR_NO_REMAP -fPIC  -falign-functions=64 -Wall -g -O2  -DR_NO_REMAP -c cstrsplit.cc -o cstrsplit.o
clang++ -arch arm64 -std=gnu++17 -I"/Library/Frameworks/R.framework/Resources/include" -DNDEBUG  -I'/Library/Frameworks/R.framework/Versions/4.5-arm64/Resources/library/Rcpp/include' -I'/Library/Frameworks/R.framework/Versions/4.5-arm64/Resources/library/BH/include' -I/opt/R/arm64/include   -DNO_MAIN -DNO_DEBUG -DSTRICT_R_HEADERS -DR_NO_REMAP -fPIC  -falign-functions=64 -Wall -g -O2  -DR_NO_REMAP -c desc.cc -o desc.o
clang++ -arch arm64 -std=gnu++17 -I"/Library/Frameworks/R.framework/Resources/include" -DNDEBUG  -I'/Library/Frameworks/R.framework/Versions/4.5-arm64/Resources/library/Rcpp/include' -I'/Library/Frameworks/R.framework/Versions/4.5-arm64/Resources/library/BH/include' -I/opt/R/arm64/include   -DNO_MAIN -DNO_DEBUG -DSTRICT_R_HEADERS -DR_NO_REMAP -fPIC  -falign-functions=64 -Wall -g -O2  -DR_NO_REMAP -c fingerprints.cc -o fingerprints.o
clang++ -arch arm64 -std=gnu++17 -I"/Library/Frameworks/R.framework/Resources/include" -DNDEBUG  -I'/Library/Frameworks/R.framework/Versions/4.5-arm64/Resources/library/Rcpp/include' -I'/Library/Frameworks/R.framework/Versions/4.5-arm64/Resources/library/BH/include' -I/opt/R/arm64/include   -DNO_MAIN -DNO_DEBUG -DSTRICT_R_HEADERS -DR_NO_REMAP -fPIC  -falign-functions=64 -Wall -g -O2  -DR_NO_REMAP -c formats.cc -o formats.o
clang++ -arch arm64 -std=gnu++17 -I"/Library/Frameworks/R.framework/Resources/include" -DNDEBUG  -I'/Library/Frameworks/R.framework/Versions/4.5-arm64/Resources/library/Rcpp/include' -I'/Library/Frameworks/R.framework/Versions/4.5-arm64/Resources/library/BH/include' -I/opt/R/arm64/include   -DNO_MAIN -DNO_DEBUG -DSTRICT_R_HEADERS -DR_NO_REMAP -fPIC  -falign-functions=64 -Wall -g -O2  -DR_NO_REMAP -c molecule.cc -o molecule.o
clang++ -arch arm64 -std=gnu++17 -I"/Library/Frameworks/R.framework/Resources/include" -DNDEBUG  -I'/Library/Frameworks/R.framework/Versions/4.5-arm64/Resources/library/Rcpp/include' -I'/Library/Frameworks/R.framework/Versions/4.5-arm64/Resources/library/BH/include' -I/opt/R/arm64/include   -DNO_MAIN -DNO_DEBUG -DSTRICT_R_HEADERS -DR_NO_REMAP -fPIC  -falign-functions=64 -Wall -g -O2  -DR_NO_REMAP -c r_wrap.cc -o r_wrap.o
r_wrap.cc:758:10: warning: 'R_NO_REMAP' macro redefined [-Wmacro-redefined]
# define R_NO_REMAP
         ^
<command line>:6:9: note: previous definition is here
#define R_NO_REMAP 1
        ^
r_wrap.cc:761:10: warning: 'STRICT_R_HEADERS' macro redefined [-Wmacro-redefined]
# define STRICT_R_HEADERS
         ^
<command line>:4:9: note: previous definition is here
#define STRICT_R_HEADERS 1
        ^
2 warnings generated.
clang++ -arch arm64 -std=gnu++17 -I"/Library/Frameworks/R.framework/Resources/include" -DNDEBUG  -I'/Library/Frameworks/R.framework/Versions/4.5-arm64/Resources/library/Rcpp/include' -I'/Library/Frameworks/R.framework/Versions/4.5-arm64/Resources/library/BH/include' -I/opt/R/arm64/include   -DNO_MAIN -DNO_DEBUG -DSTRICT_R_HEADERS -DR_NO_REMAP -fPIC  -falign-functions=64 -Wall -g -O2  -DR_NO_REMAP -c script.cc -o script.o
clang++ -arch arm64 -std=gnu++17 -I"/Library/Frameworks/R.framework/Resources/include" -DNDEBUG  -I'/Library/Frameworks/R.framework/Versions/4.5-arm64/Resources/library/Rcpp/include' -I'/Library/Frameworks/R.framework/Versions/4.5-arm64/Resources/library/BH/include' -I/opt/R/arm64/include   -DNO_MAIN -DNO_DEBUG -DSTRICT_R_HEADERS -DR_NO_REMAP -fPIC  -falign-functions=64 -Wall -g -O2  -DR_NO_REMAP -c similarity.cc -o similarity.o
clang++ -arch arm64 -std=gnu++17 -dynamiclib -Wl,-headerpad_max_install_names -undefined dynamic_lookup -L/Library/Frameworks/R.framework/Resources/lib -L/opt/R/arm64/lib -o ChemmineR.so DisjointSets.o cluster.o cstrsplit.o desc.o fingerprints.o formats.o molecule.o r_wrap.o script.o similarity.o -F/Library/Frameworks/R.framework/.. -framework R -Wl,-framework -Wl,CoreFoundation
installing to /Library/Frameworks/R.framework/Versions/4.5-arm64/Resources/library/00LOCK-ChemmineR/00new/ChemmineR/libs
** R
** data
** inst
** byte-compile and prepare package for lazy loading
** help
*** installing help indices
** building package indices
** installing vignettes
** testing if installed package can be loaded from temporary location
** checking absolute paths in shared objects and dynamic libraries
** testing if installed package can be loaded from final location
** testing if installed package keeps a record of temporary installation path
* DONE (ChemmineR)