Package: ChemmineR
Version: 3.59.0
Command: /Library/Frameworks/R.framework/Resources/bin/R CMD check --install=check:ChemmineR.install-out.txt --library=/Library/Frameworks/R.framework/Resources/library --no-vignettes --timings ChemmineR_3.59.0.tar.gz
StartedAt: 2025-02-18 18:31:43 -0500 (Tue, 18 Feb 2025)
EndedAt: 2025-02-18 18:32:30 -0500 (Tue, 18 Feb 2025)
EllapsedTime: 47.7 seconds
RetCode: 0
Status: WARNINGS
CheckDir: ChemmineR.Rcheck
Warnings: 1