Package: ChIPseeker
Version: 1.43.0
Maintainer: Guangchuang Yu
MaintainerEmail: guangchuangyu at gmail.com
git_url: https://git.bioconductor.org/packages/ChIPseeker
git_branch: devel
git_last_commit: 9e54d40
git_last_commit_date: 2024-10-29 09:52:02 -0500 (Tue, 29 Oct 2024)