Package: ChIPanalyser
Version: 1.29.0
Maintainer: Patrick C.N. Martin
MaintainerEmail: pcnmartin at gmail.com
git_url: https://git.bioconductor.org/packages/ChIPanalyser
git_branch: devel
git_last_commit: 0c32095
git_last_commit_date: 2024-10-29 10:22:00 -0500 (Tue, 29 Oct 2024)