Package: ChIPXpress
Version: 1.51.0
Maintainer: George Wu
MaintainerEmail: georgetwu at gmail.com
git_url: https://git.bioconductor.org/packages/ChIPXpress
git_branch: devel
git_last_commit: 498fd5f
git_last_commit_date: 2024-10-29 09:42:10 -0500 (Tue, 29 Oct 2024)