Package: CaMutQC Version: 1.3.0 Command: E:\biocbuild\bbs-3.21-bioc\R\bin\R.exe CMD INSTALL CaMutQC StartedAt: 2025-02-18 15:58:53 -0500 (Tue, 18 Feb 2025) EndedAt: 2025-02-18 15:59:43 -0500 (Tue, 18 Feb 2025) EllapsedTime: 50.3 seconds RetCode: 0 Status: OK