Package: CaMutQC
Version: 1.3.0
Command: E:\biocbuild\bbs-3.21-bioc\R\bin\R.exe CMD check --no-multiarch --install=check:CaMutQC.install-out.txt --library=E:\biocbuild\bbs-3.21-bioc\R\library --no-vignettes --timings CaMutQC_1.3.0.tar.gz
StartedAt: 2025-02-19 23:19:25 -0500 (Wed, 19 Feb 2025)
EndedAt: 2025-02-19 23:23:44 -0500 (Wed, 19 Feb 2025)
EllapsedTime: 259.4 seconds
RetCode: 0
Status: OK
CheckDir: CaMutQC.Rcheck
Warnings: 0