Package: CaMutQC
Version: 1.3.0
Command: chmod a+r CaMutQC -R && E:\biocbuild\bbs-3.21-bioc\R\bin\R.exe CMD build --keep-empty-dirs --no-resave-data CaMutQC
StartedAt: 2025-02-19 17:39:51 -0500 (Wed, 19 Feb 2025)
EndedAt: 2025-02-19 17:41:15 -0500 (Wed, 19 Feb 2025)
EllapsedTime: 84.0 seconds
RetCode: 0
Status: OK
PackageFile: CaMutQC_1.3.0.tar.gz
PackageFileSize: 4.843 <A href="http://en.wikipedia.org/wiki/MiB" target="_blank">MiB</A>