##############################################################################
##############################################################################
###
### Running command:
###
###   chmod a+r CaMutQC -R && E:\biocbuild\bbs-3.21-bioc\R\bin\R.exe CMD build --keep-empty-dirs --no-resave-data CaMutQC
###
##############################################################################
##############################################################################


* checking for file 'CaMutQC/DESCRIPTION' ... OK
* preparing 'CaMutQC':
* checking DESCRIPTION meta-information ... OK
* installing the package to build vignettes
* creating vignettes ... OK
* checking for LF line-endings in source and make files and shell scripts
* checking for empty or unneeded directories
Omitted 'LazyData' from DESCRIPTION
* building 'CaMutQC_1.3.0.tar.gz'