Package: CaMutQC
Version: 1.3.0
Command: rm -rf CaMutQC.buildbin-libdir && mkdir CaMutQC.buildbin-libdir && E:\biocbuild\bbs-3.21-bioc\R\bin\R.exe CMD INSTALL --build --library=CaMutQC.buildbin-libdir CaMutQC_1.3.0.tar.gz
StartedAt: 2025-02-19 07:04:30 -0500 (Wed, 19 Feb 2025)
EndedAt: 2025-02-19 07:05:20 -0500 (Wed, 19 Feb 2025)
EllapsedTime: 49.5 seconds
RetCode: 0
Status: OK
PackageFile: CaMutQC_1.3.0.zip
PackageFileSize: 4.118 <A href="http://en.wikipedia.org/wiki/MiB" target="_blank">MiB</A>