##############################################################################
##############################################################################
###
### Running command:
###
###   rm -rf CaMutQC.buildbin-libdir && mkdir CaMutQC.buildbin-libdir && E:\biocbuild\bbs-3.21-bioc\R\bin\R.exe CMD INSTALL --build --library=CaMutQC.buildbin-libdir CaMutQC_1.3.0.tar.gz
###
##############################################################################
##############################################################################


* installing *source* package 'CaMutQC' ...
** this is package 'CaMutQC' version '1.3.0'
** using staged installation
** R
** inst
** byte-compile and prepare package for lazy loading
Warning: replacing previous import 'ape::degree' by 'circlize::degree' when loading 'MesKit'
Warning: replacing previous import 'ape::where' by 'dplyr::where' when loading 'MesKit'
** help
*** installing help indices
** building package indices
** installing vignettes
** testing if installed package can be loaded from temporary location
Warning: replacing previous import 'ape::degree' by 'circlize::degree' when loading 'MesKit'
Warning: replacing previous import 'ape::where' by 'dplyr::where' when loading 'MesKit'
** testing if installed package can be loaded from final location
Warning: replacing previous import 'ape::degree' by 'circlize::degree' when loading 'MesKit'
Warning: replacing previous import 'ape::where' by 'dplyr::where' when loading 'MesKit'
** testing if installed package keeps a record of temporary installation path
* MD5 sums
packaged installation of 'CaMutQC' as CaMutQC_1.3.0.zip
* DONE (CaMutQC)