Package: CTexploreR
Version: 1.3.0
Maintainer: Axelle Loriot
MaintainerEmail: axelle.loriot at uclouvain.be
git_url: https://git.bioconductor.org/packages/CTexploreR
git_branch: devel
git_last_commit: b8dffc6
git_last_commit_date: 2024-10-29 11:26:00 -0500 (Tue, 29 Oct 2024)