Package: CONFESS Version: 1.35.0 Command: chmod a+r CONFESS -R && E:\biocbuild\bbs-3.21-bioc\R\bin\R.exe CMD build --keep-empty-dirs --no-resave-data CONFESS StartedAt: 2025-01-31 17:52:49 -0500 (Fri, 31 Jan 2025) EndedAt: 2025-01-31 17:56:13 -0500 (Fri, 31 Jan 2025) EllapsedTime: 203.3 seconds RetCode: 0 Status: OK PackageFile: CONFESS_1.35.0.tar.gz PackageFileSize: 3.591 MiB