Package: CONFESS Version: 1.35.0 Command: /Library/Frameworks/R.framework/Resources/bin/R CMD check --install=check:CONFESS.install-out.txt --library=/Library/Frameworks/R.framework/Resources/library --no-vignettes --timings CONFESS_1.35.0.tar.gz StartedAt: 2025-01-31 19:37:06 -0500 (Fri, 31 Jan 2025) EndedAt: 2025-01-31 19:45:43 -0500 (Fri, 31 Jan 2025) EllapsedTime: 516.5 seconds RetCode: 0 Status: WARNINGS CheckDir: CONFESS.Rcheck Warnings: 1