Package: CONFESS Version: 1.35.0 Command: /home/biocbuild/R/R/bin/R CMD INSTALL CONFESS StartedAt: 2025-01-29 20:19:41 -0000 (Wed, 29 Jan 2025) EndedAt: 2025-01-29 20:19:42 -0000 (Wed, 29 Jan 2025) EllapsedTime: 0.4 seconds RetCode: 1 Status: ERROR