Package: CONFESS Version: 1.35.0 Command: /Library/Frameworks/R.framework/Resources/bin/R CMD check --install=check:CONFESS.install-out.txt --library=/Library/Frameworks/R.framework/Resources/library --no-vignettes --timings CONFESS_1.35.0.tar.gz StartedAt: 2025-01-31 18:40:14 -0500 (Fri, 31 Jan 2025) EndedAt: 2025-01-31 18:43:09 -0500 (Fri, 31 Jan 2025) EllapsedTime: 175.1 seconds RetCode: 0 Status: WARNINGS CheckDir: CONFESS.Rcheck Warnings: 1