Package: CONFESS Version: 1.35.0 Command: /Library/Frameworks/R.framework/Resources/bin/R CMD build --keep-empty-dirs --no-resave-data CONFESS StartedAt: 2025-01-31 15:58:41 -0500 (Fri, 31 Jan 2025) EndedAt: 2025-01-31 16:00:01 -0500 (Fri, 31 Jan 2025) EllapsedTime: 79.9 seconds RetCode: 0 Status: OK PackageFile: CONFESS_1.35.0.tar.gz PackageFileSize: 3.588 MiB