Package: CNORfuzzy
Version: 1.49.0
Maintainer: T. Cokelaer
MaintainerEmail: cokelaer at ebi.ac.uk
git_url: https://git.bioconductor.org/packages/CNORfuzzy
git_branch: devel
git_last_commit: 48255bf
git_last_commit_date: 2024-10-29 09:42:20 -0500 (Tue, 29 Oct 2024)