Package: CNEr Version: 1.43.0 Command: chmod a+r CNEr -R && E:\biocbuild\bbs-3.21-bioc\R\bin\R.exe CMD build --keep-empty-dirs --no-resave-data CNEr StartedAt: 2025-01-31 17:48:04 -0500 (Fri, 31 Jan 2025) EndedAt: 2025-01-31 17:51:09 -0500 (Fri, 31 Jan 2025) EllapsedTime: 185.3 seconds RetCode: 0 Status: OK PackageFile: CNEr_1.43.0.tar.gz PackageFileSize: 9.282 MiB