Package: CNEr Version: 1.43.0 Command: /home/biocbuild/bbs-3.21-bioc/R/bin/R CMD check --install=check:CNEr.install-out.txt --library=/home/biocbuild/bbs-3.21-bioc/R/site-library --timings CNEr_1.43.0.tar.gz StartedAt: 2025-01-31 21:04:35 -0500 (Fri, 31 Jan 2025) EndedAt: 2025-01-31 21:15:41 -0500 (Fri, 31 Jan 2025) EllapsedTime: 665.9 seconds RetCode: 0 Status: WARNINGS CheckDir: CNEr.Rcheck Warnings: 2