Package: CNEr Version: 1.43.0 Command: /home/biocbuild/R/R/bin/R CMD INSTALL CNEr StartedAt: 2025-01-29 19:51:20 -0000 (Wed, 29 Jan 2025) EndedAt: 2025-01-29 19:52:34 -0000 (Wed, 29 Jan 2025) EllapsedTime: 73.3 seconds RetCode: 0 Status: OK