Package: CNEr Version: 1.43.0 Command: /home/biocbuild/R/R/bin/R CMD check --install=check:CNEr.install-out.txt --library=/home/biocbuild/R/R/site-library --no-vignettes --timings CNEr_1.43.0.tar.gz StartedAt: 2025-01-28 09:18:35 -0000 (Tue, 28 Jan 2025) EndedAt: 2025-01-28 09:30:21 -0000 (Tue, 28 Jan 2025) EllapsedTime: 706.6 seconds RetCode: 0 Status: WARNINGS CheckDir: CNEr.Rcheck Warnings: 3