Package: CMA Version: 1.65.0 Command: /Library/Frameworks/R.framework/Resources/bin/R CMD INSTALL CMA StartedAt: 2025-02-04 15:05:07 -0500 (Tue, 04 Feb 2025) EndedAt: 2025-02-04 15:05:45 -0500 (Tue, 04 Feb 2025) EllapsedTime: 37.9 seconds RetCode: 0 Status: OK