Package: CMA Version: 1.65.0 Command: rm -rf CMA.buildbin-libdir && mkdir CMA.buildbin-libdir && /Users/biocbuild/BBS/utils/build-universal.sh CMA_1.65.0.tar.gz /Library/Frameworks/R.framework/Resources/bin/R CMA.buildbin-libdir StartedAt: 2025-02-05 00:33:42 -0500 (Wed, 05 Feb 2025) EndedAt: 2025-02-05 00:34:04 -0500 (Wed, 05 Feb 2025) EllapsedTime: 22.0 seconds RetCode: 0 Status: OK PackageFile: CMA_1.65.0.tgz PackageFileSize: 1.897 MiB