Package: CMA Version: 1.65.0 Command: /home/biocbuild/R/R/bin/R CMD INSTALL CMA StartedAt: 2025-01-29 19:31:14 -0000 (Wed, 29 Jan 2025) EndedAt: 2025-01-29 19:32:03 -0000 (Wed, 29 Jan 2025) EllapsedTime: 49.2 seconds RetCode: 0 Status: OK