Package: CGHnormaliter
Version: 1.61.0
Command: /Library/Frameworks/R.framework/Resources/bin/R CMD INSTALL CGHnormaliter
StartedAt: 2025-02-19 15:08:21 -0500 (Wed, 19 Feb 2025)
EndedAt: 2025-02-19 15:08:40 -0500 (Wed, 19 Feb 2025)
EllapsedTime: 18.7 seconds
RetCode: 0
Status: OK