Package: CGHnormaliter Version: 1.61.0 Command: /Library/Frameworks/R.framework/Resources/bin/R CMD check --install=check:CGHnormaliter.install-out.txt --library=/Library/Frameworks/R.framework/Resources/library --no-vignettes --timings CGHnormaliter_1.61.0.tar.gz StartedAt: 2025-02-19 19:26:19 -0500 (Wed, 19 Feb 2025) EndedAt: 2025-02-19 19:27:51 -0500 (Wed, 19 Feb 2025) EllapsedTime: 91.8 seconds RetCode: 0 Status: OK CheckDir: CGHnormaliter.Rcheck Warnings: 0