##############################################################################
##############################################################################
###
### Running command:
###
###   /Library/Frameworks/R.framework/Resources/bin/R CMD check --install=check:CGHnormaliter.install-out.txt --library=/Library/Frameworks/R.framework/Resources/library --no-vignettes --timings CGHnormaliter_1.61.0.tar.gz
###
##############################################################################
##############################################################################


* using log directory ‘/Users/biocbuild/bbs-3.21-bioc/meat/CGHnormaliter.Rcheck’
* using R Under development (unstable) (2025-01-22 r87618)
* using platform: x86_64-apple-darwin20
* R was compiled by
    Apple clang version 14.0.0 (clang-1400.0.29.202)
    GNU Fortran (GCC) 14.2.0
* running under: macOS Monterey 12.7.6
* using session charset: UTF-8
* using option ‘--no-vignettes’
* checking for file ‘CGHnormaliter/DESCRIPTION’ ... OK
* checking extension type ... Package
* this is package ‘CGHnormaliter’ version ‘1.61.0’
* checking package namespace information ... OK
* checking package dependencies ... OK
* checking if this is a source package ... OK
* checking if there is a namespace ... OK
* checking for hidden files and directories ... OK
* checking for portable file names ... OK
* checking for sufficient/correct file permissions ... OK
* checking whether package ‘CGHnormaliter’ can be installed ... OK
* checking installed package size ... OK
* checking package directory ... OK
* checking ‘build’ directory ... OK
* checking DESCRIPTION meta-information ... NOTE
Malformed Title field: should not end in a period.
Packages listed in more than one of Depends, Imports, Suggests, Enhances:
  ‘CGHbase’ ‘CGHcall’
A package should be listed in only one of these fields.
* checking top-level files ... OK
* checking for left-over files ... OK
* checking index information ... OK
* checking package subdirectories ... OK
* checking code files for non-ASCII characters ... OK
* checking R files for syntax errors ... OK
* checking whether the package can be loaded ... OK
* checking whether the package can be loaded with stated dependencies ... OK
* checking whether the package can be unloaded cleanly ... OK
* checking whether the namespace can be loaded with stated dependencies ... OK
* checking whether the namespace can be unloaded cleanly ... OK
* checking dependencies in R code ... OK
* checking S3 generic/method consistency ... OK
* checking replacement functions ... OK
* checking foreign function calls ... OK
* checking R code for possible problems ... NOTE
.plotMA: no visible global function definition for ‘pdf’
.plotMA: no visible global function definition for ‘palette’
.plotMA: no visible global function definition for ‘par’
.plotMA: no visible global function definition for ‘title’
.plotMA: no visible global function definition for ‘abline’
.plotMA: no visible global function definition for ‘dev.off’
.readCghRaw: no visible global function definition for ‘read.table’
.readCghRaw: no visible global function definition for ‘make_cghRaw’
.runCGHcall: no visible global function definition for ‘capture.output’
.runCGHcall: no visible global function definition for ‘ExpandCGHcall’
CGHnormaliter: no visible binding for global variable ‘segment’
CGHnormaliter: no visible global function definition for
  ‘capture.output’
CGHnormaliter: no visible global function definition for ‘normalize’
CGHnormaliter: no visible global function definition for
  ‘postsegnormalize’
CGHnormaliter.write.table: no visible global function definition for
  ‘segmented’
CGHnormaliter.write.table: no visible global function definition for
  ‘calls’
Undefined global functions or variables:
  ExpandCGHcall abline calls capture.output dev.off make_cghRaw
  normalize palette par pdf postsegnormalize read.table segment
  segmented title
Consider adding
  importFrom("grDevices", "dev.off", "palette", "pdf")
  importFrom("graphics", "abline", "par", "title")
  importFrom("utils", "capture.output", "read.table")
to your NAMESPACE file.
* checking Rd files ... OK
* checking Rd metadata ... OK
* checking Rd cross-references ... OK
* checking for missing documentation entries ... OK
* checking for code/documentation mismatches ... OK
* checking Rd \usage sections ... OK
* checking Rd contents ... OK
* checking for unstated dependencies in examples ... OK
* checking contents of ‘data’ directory ... OK
* checking data for non-ASCII characters ... OK
* checking data for ASCII and uncompressed saves ... OK
* checking sizes of PDF files under ‘inst/doc’ ... OK
* checking files in ‘vignettes’ ... OK
* checking examples ... OK
Examples with CPU (user + system) or elapsed time > 5s
                user system elapsed
CGHnormaliter 46.606  0.461  47.292
* checking for unstated dependencies in vignettes ... OK
* checking package vignettes ... OK
* checking running R code from vignettes ... SKIPPED
* checking re-building of vignette outputs ... SKIPPED
* checking PDF version of manual ... OK
* DONE

Status: 2 NOTEs
See
  ‘/Users/biocbuild/bbs-3.21-bioc/meat/CGHnormaliter.Rcheck/00check.log’
for details.