Package: CGHnormaliter Version: 1.61.0 Command: /Library/Frameworks/R.framework/Resources/bin/R CMD build --keep-empty-dirs --no-resave-data CGHnormaliter StartedAt: 2025-02-19 16:11:30 -0500 (Wed, 19 Feb 2025) EndedAt: 2025-02-19 16:12:24 -0500 (Wed, 19 Feb 2025) EllapsedTime: 53.6 seconds RetCode: 0 Status: OK PackageFile: CGHnormaliter_1.61.0.tar.gz PackageFileSize: 1.245 <A href="http://en.wikipedia.org/wiki/MiB" target="_blank">MiB</A>