Package: CGHnormaliter Version: 1.61.0 Maintainer: Bart P.P. van Houte MaintainerEmail: bvhoute at few.vu.nl git_url: https://git.bioconductor.org/packages/CGHnormaliter git_branch: devel git_last_commit: bb90e82 git_last_commit_date: 2024-10-29 09:32:25 -0500 (Tue, 29 Oct 2024)