Package: CAEN Version: 1.15.0 Command: rm -rf CAEN.buildbin-libdir && mkdir CAEN.buildbin-libdir && E:\biocbuild\bbs-3.21-bioc\R\bin\R.exe CMD INSTALL --build --library=CAEN.buildbin-libdir CAEN_1.15.0.tar.gz StartedAt: 2025-02-05 07:34:27 -0500 (Wed, 05 Feb 2025) EndedAt: 2025-02-05 07:34:50 -0500 (Wed, 05 Feb 2025) EllapsedTime: 22.1 seconds RetCode: 0 Status: OK PackageFile: CAEN_1.15.0.zip PackageFileSize: 1.522 MiB